BEGIN:VCALENDAR
VERSION:2.0
PRODID:-//PCI Municipal Services - ECPv6.15.6//NONSGML v1.0//EN
CALSCALE:GREGORIAN
METHOD:PUBLISH
X-ORIGINAL-URL:https://pcia2.com
X-WR-CALDESC:Events for PCI Municipal Services
REFRESH-INTERVAL;VALUE=DURATION:PT1H
X-Robots-Tag:noindex
X-PUBLISHED-TTL:PT1H
BEGIN:VTIMEZONE
TZID:America/New_York
BEGIN:DAYLIGHT
TZOFFSETFROM:-0500
TZOFFSETTO:-0400
TZNAME:EDT
DTSTART:20240310T070000
END:DAYLIGHT
BEGIN:STANDARD
TZOFFSETFROM:-0400
TZOFFSETTO:-0500
TZNAME:EST
DTSTART:20241103T060000
END:STANDARD
BEGIN:DAYLIGHT
TZOFFSETFROM:-0500
TZOFFSETTO:-0400
TZNAME:EDT
DTSTART:20250309T070000
END:DAYLIGHT
BEGIN:STANDARD
TZOFFSETFROM:-0400
TZOFFSETTO:-0500
TZNAME:EST
DTSTART:20251102T060000
END:STANDARD
BEGIN:DAYLIGHT
TZOFFSETFROM:-0500
TZOFFSETTO:-0400
TZNAME:EDT
DTSTART:20260308T070000
END:DAYLIGHT
BEGIN:STANDARD
TZOFFSETFROM:-0400
TZOFFSETTO:-0500
TZNAME:EST
DTSTART:20261101T060000
END:STANDARD
END:VTIMEZONE
BEGIN:VEVENT
DTSTART;TZID=America/New_York:20250704T080000
DTEND;TZID=America/New_York:20250704T100000
DTSTAMP:20260421T221212
CREATED:20250610T165722Z
LAST-MODIFIED:20250610T165722Z
UID:24353-1751616000-1751623200@pcia2.com
SUMMARY:Folds of Honor Firecracker 5K
DESCRIPTION:Run | Walk | Ruck \nJoin in downtown Ann Arbor for the classic Folds of Honor Firecracker 5K: Run\, Walk\, or Ruck! \nRucking Division: Carry a weighted rucksack or backpack for your 5K. (Competitive and “just for fun” subdivisions.) \nThe Flag Carrying Division: Run or walk proudly bearing a mounted 3 x 5 American flag from start to finish. \nHot Dog Eating Division:  It’s not the Fourth of July without hot dogs\, and those who choose this challenge — up to 20 competitors — will try to chow down on four dogs in 76 seconds\, then get their 5K underway.
URL:https://pcia2.com/event/folds-of-honor-firecracker-5k/
LOCATION:4th St. & Liberty St.\, 4th St. and Liberty St.\, Ann Arbor\, MI\, 48104\, United States
CATEGORIES:Runs/Walks
ATTACH;FMTTYPE=image/avif:https://pcia2.com/wp-content/uploads/2025/06/firecracker5k.avif
ORGANIZER;CN="Folds of Honor":MAILTO:motorcity@foldsofhonor.org
END:VEVENT
BEGIN:VEVENT
DTSTART;TZID=America/New_York:20250715T170000
DTEND;TZID=America/New_York:20250715T210000
DTSTAMP:20260421T221212
CREATED:20250610T194816Z
LAST-MODIFIED:20250610T194816Z
UID:24388-1752598800-1752613200@pcia2.com
SUMMARY:Dart for Art 2025
DESCRIPTION:Dart For Art will be held July\, 15th 2025 from 5 PM to 8 PM on the corner of North University and State Street. Come on out and join the fun! Let’s make this one-mile race a day to remember! \nThe Dart for Art – Ann Arbor Mile supports the Ann Arbor Street Fair\, the Original\, a 501(c)(3) non-profit organization. Your participation helps fund the educational and ancillary programs\, including NANA (New Art\, New Artist College Student Mentoring Program)\, the Art Activity Zone\, the Demo Zone\, and the Youth Art Fair.
URL:https://pcia2.com/event/dart-for-art-2025/
LOCATION:Corner of North University and State Street\, North University and State Street\, Ann Arbor\, MI\, 48104\, United States
CATEGORIES:Runs/Walks
ATTACH;FMTTYPE=image/avif:https://pcia2.com/wp-content/uploads/2025/06/dartforart2025.avif
ORGANIZER;CN="The Original%3A Ann Arbor Street Art Fair":MAILTO:Akline@ArtFair.org
END:VEVENT
END:VCALENDAR